BEGIN:VCALENDAR
VERSION:2.0
PRODID:-//Squarespace Inc/Squarespace 6//v6//EN
BEGIN:VEVENT
UID:5a5e6dcee4966b7021f2bf4a@squarespace.com
DTSTAMP:20190123T191145Z
DTSTART:20180209T213000Z
DTEND:20180506T213000Z
SUMMARY:Exhibition: T-SHIRT: CULT – CULTURE – SUBVERSION\, London
GEO:51.501159;-0.081713
LOCATION:Fashion and Textile Museum\, 83 Bermondsey Street\, London\, Engla
 nd\, SE1 3XF\, United Kingdom
END:VEVENT
END:VCALENDAR
