BEGIN:VCALENDAR
VERSION:2.0
PRODID:-//Squarespace Inc/Squarespace 6//v6//EN
BEGIN:VEVENT
UID:5a970afd0852290b6c783f33@squarespace.com
DTSTAMP:20190123T185909Z
DTSTART:20180310T183000Z
DTEND:20180516T013000Z
SUMMARY:Exhibition: LA FEMINAE LA - Typographic Voices of Women by Women\, 
 Art Center College\, Pasadena
GEO:34.129191;-118.148352
LOCATION:Art Center\, Hoffmitz Milken Center for Typography\, 950 South Ray
 mond Avenue\, Pasadena\, CA\, 91105\, United States
END:VEVENT
END:VCALENDAR
