BEGIN:VCALENDAR
VERSION:2.0
PRODID:-//Squarespace Inc/Squarespace 6//v6//EN
BEGIN:VEVENT
UID:5a5e79428165f56a9d43414c@squarespace.com
DTSTAMP:20190123T185337Z
DTSTART:20180316T020000Z
DTEND:20180316T040000Z
SUMMARY:GIG: Guerrilla Girls at Moore College of Art &amp\; Design
GEO:39.950322;-75.173625
LOCATION:Moore College of Art & Design\, 20th Street and The Parkway\, Phil
 adephia\, PA 19103
END:VEVENT
END:VCALENDAR
