BEGIN:VCALENDAR
VERSION:2.0
PRODID:-//Squarespace Inc/Squarespace 6//v6//EN
BEGIN:VEVENT
UID:5ab2944970a6ad5cf1a5ac31@squarespace.com
DTSTAMP:20190123T184429Z
DTSTART:20180503T010000Z
DTEND:20180503T030000Z
SUMMARY:GIG: Guerrilla Girls at Fashion Institute of Technology\, NYC
GEO:40.747671;-73.995399
LOCATION:Fashion Institute of Technology\, 227 West 27th Street\, New York\
 , NY\, 10001\, United States
END:VEVENT
END:VCALENDAR
