BEGIN:VCALENDAR
VERSION:2.0
PRODID:-//Squarespace Inc/Squarespace 6//v6//EN
BEGIN:VEVENT
UID:5a97133508522963c2097ed1@squarespace.com
DTSTAMP:20190123T191031Z
DTSTART:20180305T180000Z
DTEND:20180414T000000Z
SUMMARY:Exhibition: Artists as Innovators\, New York
GEO:40.704888;-73.942526
LOCATION:SUNY Cortland\, Dowd Gallery\, 106 Graham Avenue\, Cortland\, NY 1
 3045
END:VEVENT
END:VCALENDAR
