BEGIN:VCALENDAR
VERSION:2.0
PRODID:-//Squarespace Inc/Squarespace 6//v6//EN
BEGIN:VEVENT
UID:5a8dbb3b652deab982f0cb68@squarespace.com
DTSTAMP:20190123T185846Z
DTSTART:20180309T033000Z
DTEND:20180309T073000Z
SUMMARY:GIG: Mama Cash Festival\, Amsterdam
GEO:52.358011;4.879756
LOCATION:Stedelijk Museum Auditorium\, 10 Museumplein\, Amsterdam\, NH\, 10
 71\, Netherlands
END:VEVENT
END:VCALENDAR
