BEGIN:VCALENDAR
VERSION:2.0
PRODID:-//Squarespace Inc/Squarespace 6//v6//EN
BEGIN:VEVENT
UID:5a5fe86b24a694c1163e6869@squarespace.com
DTSTAMP:20190123T185100Z
DTSTART:20180404T233000Z
DTEND:20180910T003000Z
SUMMARY:Exhibition: Graffiti\, Helsinki
GEO:60.170041;24.929782
LOCATION:Helsinki Art Museum\, 8 Södra Järnvägsgatan\, Helsingfors\, 00100\
 , Finland
END:VEVENT
END:VCALENDAR
