BEGIN:VCALENDAR
VERSION:2.0
PRODID:-//Squarespace Inc/Squarespace 6//v6//EN
BEGIN:VEVENT
UID:5ac50efdf950b7c948918410@squarespace.com
DTSTAMP:20190123T185005Z
DTSTART:20180405T180000Z
DTEND:20180617T000000Z
SUMMARY:Exhibition: Hidden Workers\, Seoul
GEO:37.514028;127.035913
LOCATION:Coreana Museum of Art\, 827 Eonjuro Gangnam gu\, Seoul 06024\, Kor
 ea
END:VEVENT
END:VCALENDAR
