BEGIN:VCALENDAR
VERSION:2.0
PRODID:-//Squarespace Inc/Squarespace 6//v6//EN
BEGIN:VEVENT
UID:5a5e7b4553450a361df70aa7@squarespace.com
DTSTAMP:20190123T184646Z
DTSTART:20180407T020000Z
DTEND:20180407T030000Z
SUMMARY:GIG: Guerrilla Girls at San Diego State University
GEO:32.774731;-117.069387
LOCATION:San Diego State University\, 5500 Campanile Drive\, San Diego\, CA
 \, 92182\, United States
END:VEVENT
END:VCALENDAR
