BEGIN:VCALENDAR
VERSION:2.0
PRODID:-//Squarespace Inc/Squarespace 6//v6//EN
BEGIN:VEVENT
UID:5ab2b58470a6adbbeb01f55c@squarespace.com
DTSTAMP:20190123T184355Z
DTSTART:20180506T170000Z
DTEND:20180827T000000Z
SUMMARY:Exhibition: Beyond the Streets\, LA
GEO:34.068031;-118.226624
LOCATION:BEYOND THE STREETS\, 1667 North Main Street\, Los Angeles\, CA\, 9
 0012\, United States
END:VEVENT
END:VCALENDAR
