BEGIN:VCALENDAR
VERSION:2.0
PRODID:-//Squarespace Inc/Squarespace 6//v6//EN
BEGIN:VEVENT
UID:5b2988bdaa4a99e557bbc4e5@squarespace.com
DTSTAMP:20190123T181556Z
DTSTART:20180902T020000Z
DTEND:20180902T040000Z
SUMMARY:GIG: Helsinki Art Museum
GEO:60.170041;24.929782
LOCATION:Helsinki Art Museum\, 8 Södra Järnvägsgatan\, Helsingfors\, 00100\
 , Finland
END:VEVENT
END:VCALENDAR
