BEGIN:VCALENDAR
VERSION:2.0
PRODID:-//Squarespace Inc/Squarespace 6//v6//EN
BEGIN:VEVENT
UID:5b6b693ec2241b63290aa36c@squarespace.com
DTSTAMP:20190123T184110Z
DTSTART:20180824T010000Z
DTEND:20180824T040000Z
SUMMARY:GIG: Beyond the Streets\, Los Angeles
GEO:34.068031;-118.226624
LOCATION:Beyond the Streets\, 1667 North Main Street\, Los Angeles\, CA\, 9
 0012\, United States
END:VEVENT
END:VCALENDAR
