BEGIN:VCALENDAR
VERSION:2.0
PRODID:-//Squarespace Inc/Squarespace 6//v6//EN
BEGIN:VEVENT
UID:5b3aa65b0e2e72e26fbb871b@squarespace.com
DTSTAMP:20190123T181144Z
DTSTART:20180914T023000Z
DTEND:20180914T043000Z
SUMMARY:GIG: Purdue University\, Indiana
GEO:40.425019;-86.912643
LOCATION:Purdue University\, Loeb Playhouse\, 128 Memorial Mall\, STEW 194\
 , West Lafayette\, IN\, 47907\, United States
END:VEVENT
END:VCALENDAR
