BEGIN:VCALENDAR
VERSION:2.0
PRODID:-//Squarespace Inc/Squarespace 6//v6//EN
BEGIN:VEVENT
UID:5b9459d7032be4f0cd2f24cc@squarespace.com
DTSTAMP:20190123T184234Z
DTSTART:20180820T233000Z
DTEND:20180923T003000Z
SUMMARY:Exhibition: The Art of Behaving Badly\, Purdue\, Indiana
GEO:40.424864;-86.91368
LOCATION:Robert L. Ringel Gallery\, Stewart Center\, 128 Memorial Drive\, W
 est Lafayette\, IN
END:VEVENT
END:VCALENDAR
