BEGIN:VCALENDAR
VERSION:2.0
PRODID:-//Squarespace Inc/Squarespace 6//v6//EN
BEGIN:VEVENT
UID:58f7a4f9b3db2b7177ed7c4d@squarespace.com
DTSTAMP:20170621T053204Z
DTSTART:20170623T180000Z
DTEND:20170730T190000Z
SUMMARY:Exhibition: Action!
GEO:47.370237;8.54816
LOCATION:Kunsthaus Zürich\, 1 Heimplatz\, Zürich\, ZH\, 8001\, Switzerland
END:VEVENT
END:VCALENDAR
